BEGIN:VCALENDAR
VERSION:2.0
PRODID:-//First Free Coffee Bar - ECPv6.15.20//NONSGML v1.0//EN
CALSCALE:GREGORIAN
METHOD:PUBLISH
X-ORIGINAL-URL:https://www.firstfreecoffee.com
X-WR-CALDESC:Events for First Free Coffee Bar
REFRESH-INTERVAL;VALUE=DURATION:PT1H
X-Robots-Tag:noindex
X-PUBLISHED-TTL:PT1H
BEGIN:VTIMEZONE
TZID:UTC
BEGIN:STANDARD
TZOFFSETFROM:+0000
TZOFFSETTO:+0000
TZNAME:UTC
DTSTART:20230101T000000
END:STANDARD
END:VTIMEZONE
BEGIN:VEVENT
DTSTART;TZID=UTC:20240804T133000
DTEND;TZID=UTC:20240804T160000
DTSTAMP:20260425T014441
CREATED:20240714T163008Z
LAST-MODIFIED:20240808T230421Z
UID:762-1722778200-1722787200@www.firstfreecoffee.com
SUMMARY:Lt. Governor Winsome Earle-Sears
DESCRIPTION:
URL:https://www.firstfreecoffee.com/wp-content/uploads/2024/07/131563-Winsome-Flyer.pdf
CATEGORIES:Past Events
ATTACH;FMTTYPE=image/jpeg:https://www.firstfreecoffee.com/wp-content/uploads/2024/07/Winsome-Event.jpg
END:VEVENT
BEGIN:VEVENT
DTSTART;TZID=UTC:20240824T100000
DTEND;TZID=UTC:20240824T110000
DTSTAMP:20260425T014441
CREATED:20240808T235152Z
LAST-MODIFIED:20240808T235607Z
UID:793-1724493600-1724497200@www.firstfreecoffee.com
SUMMARY:Free Cursive Writing Workshop
DESCRIPTION:
URL:https://www.firstfreecoffee.com/wp-content/uploads/2024/08/ACFrOgCmAbV1FIaHNH91-Ol9FQKjZfFP0AbqDxag4GaJ0Lulw-TEmhdt-qKewkdk2dMDxrDD7ikSfLQufS-e8O5WRZHpqZGXnVKlieeO8EFEahZcbeGh-Hwa8AMFHVhk-opvOH5C-mp8EN15qTbc.pdf
CATEGORIES:Public Events
ATTACH;FMTTYPE=image/jpeg:https://www.firstfreecoffee.com/wp-content/uploads/2024/08/FFC_Event.jpg
END:VEVENT
END:VCALENDAR