BEGIN:VCALENDAR
VERSION:2.0
PRODID:-//First Free Coffee Bar - ECPv6.15.20//NONSGML v1.0//EN
CALSCALE:GREGORIAN
METHOD:PUBLISH
X-WR-CALNAME:First Free Coffee Bar
X-ORIGINAL-URL:https://www.firstfreecoffee.com
X-WR-CALDESC:Events for First Free Coffee Bar
REFRESH-INTERVAL;VALUE=DURATION:PT1H
X-Robots-Tag:noindex
X-PUBLISHED-TTL:PT1H
BEGIN:VTIMEZONE
TZID:UTC
BEGIN:STANDARD
TZOFFSETFROM:+0000
TZOFFSETTO:+0000
TZNAME:UTC
DTSTART:20230101T000000
END:STANDARD
END:VTIMEZONE
BEGIN:VEVENT
DTSTART;TZID=UTC:20260418T130000
DTEND;TZID=UTC:20260418T160000
DTSTAMP:20260423T191544
CREATED:20260327T215858Z
LAST-MODIFIED:20260327T220730Z
UID:904-1776517200-1776528000@www.firstfreecoffee.com
SUMMARY:Thomas Jefferson's Birthday Celebration
DESCRIPTION:
URL:https://www.firstfreecoffee.com/wp-content/uploads/2026/03/Jefferson.pdf
CATEGORIES:Public Events
ATTACH;FMTTYPE=image/jpeg:https://www.firstfreecoffee.com/wp-content/uploads/2025/04/Jefferson_Event2.jpg
END:VEVENT
BEGIN:VEVENT
DTSTART;TZID=UTC:20260305T170000
DTEND;TZID=UTC:20260305T200000
DTSTAMP:20260423T191544
CREATED:20260220T231728Z
LAST-MODIFIED:20260220T231836Z
UID:897-1772730000-1772740800@www.firstfreecoffee.com
SUMMARY:Art Show Opening
DESCRIPTION:
URL:https://www.firstfreecoffee.com/wp-content/uploads/2026/02/kelly-art-show.pdf
CATEGORIES:Public Events
ATTACH;FMTTYPE=image/jpeg:https://www.firstfreecoffee.com/wp-content/uploads/2026/02/kelly-art-show-1-scaled.jpg
END:VEVENT
BEGIN:VEVENT
DTSTART;TZID=UTC:20260131T120000
DTEND;TZID=UTC:20260131T140000
DTSTAMP:20260423T191544
CREATED:20251223T224640Z
LAST-MODIFIED:20251223T224640Z
UID:894-1769860800-1769868000@www.firstfreecoffee.com
SUMMARY:Live Music: Take 2 – Jazz and Mo’
DESCRIPTION:
URL:https://www.firstfreecoffee.com/wp-content/uploads/2025/12/Copy-of-First-Fridays-with-the-Fiddling-Flynns-Paper-Bag-5-x-7-in-2.png
CATEGORIES:Public Events
ATTACH;FMTTYPE=image/png:https://www.firstfreecoffee.com/wp-content/uploads/2025/10/Take-2.png
END:VEVENT
BEGIN:VEVENT
DTSTART;TZID=UTC:20251227T120000
DTEND;TZID=UTC:20251227T140000
DTSTAMP:20260423T191544
CREATED:20251223T224401Z
LAST-MODIFIED:20251223T224401Z
UID:891-1766836800-1766844000@www.firstfreecoffee.com
SUMMARY:Live Music: Take 2 - Jazz and Mo'
DESCRIPTION:
URL:https://www.firstfreecoffee.com/event/live-music-take-2-jazz-and-mo/
CATEGORIES:Public Events
ATTACH;FMTTYPE=image/png:https://www.firstfreecoffee.com/wp-content/uploads/2025/10/Take-2.png
END:VEVENT
BEGIN:VEVENT
DTSTART;TZID=UTC:20251116T130000
DTEND;TZID=UTC:20251116T150000
DTSTAMP:20260423T191544
CREATED:20251115T133007Z
LAST-MODIFIED:20251115T133007Z
UID:887-1763298000-1763305200@www.firstfreecoffee.com
SUMMARY:Cville Cinco - Live Music
DESCRIPTION:Finally\, on Sunday\, November 16 from 1 pm to 3 pm the wind quintet \nCville Cinco will be playing on our stage. Grab a friend\, order some cappuccinos\, and enjoy the live music!
URL:https://www.firstfreecoffee.com/event/cville-cinco-live-music/
CATEGORIES:Public Events
ATTACH;FMTTYPE=image/jpeg:https://www.firstfreecoffee.com/wp-content/uploads/2025/11/FFCB_Event.jpg
END:VEVENT
BEGIN:VEVENT
DTSTART;TZID=UTC:20251115T110000
DTEND;TZID=UTC:20251115T140000
DTSTAMP:20260423T191544
CREATED:20251115T132705Z
LAST-MODIFIED:20251115T132705Z
UID:885-1763204400-1763215200@www.firstfreecoffee.com
SUMMARY:Play-a-Thon
DESCRIPTION:On Saturday\, November 15 from 11 am to 2 pm the Charlottesville Music Teachers Association will hold a Play-a-Thon at the shop to raise funds for the \nBlue Ridge Area Food Bank. Student musicians will be performing on the piano and the violin. Please stop in and support these young performers!
URL:https://www.firstfreecoffee.com/event/play-a-thon/
CATEGORIES:Public Events
ATTACH;FMTTYPE=image/jpeg:https://www.firstfreecoffee.com/wp-content/uploads/2024/09/FFC_Music1.jpg
END:VEVENT
BEGIN:VEVENT
DTSTART;TZID=UTC:20251029T130000
DTEND;TZID=UTC:20251029T143000
DTSTAMP:20260423T191544
CREATED:20251028T133608Z
LAST-MODIFIED:20251028T133846Z
UID:877-1761742800-1761748200@www.firstfreecoffee.com
SUMMARY:Meet and Greet - RSVP Required
DESCRIPTION:
URL:https://www.eventbrite.com/e/albemarle-meet-and-greet-tickets-1849471291419?aff=oddtdtcreator
CATEGORIES:Public Events
ATTACH;FMTTYPE=image/png:https://www.firstfreecoffee.com/wp-content/uploads/2025/10/Meet-and-Greet_October-29-2025_NEW.png
END:VEVENT
BEGIN:VEVENT
DTSTART;TZID=UTC:20251025T120000
DTEND;TZID=UTC:20251025T140000
DTSTAMP:20260423T191544
CREATED:20251028T134311Z
LAST-MODIFIED:20251028T134311Z
UID:881-1761393600-1761400800@www.firstfreecoffee.com
SUMMARY:Take 2 - Jazz & Mo'
DESCRIPTION:
URL:https://www.firstfreecoffee.com/wp-content/uploads/2025/10/Copy-of-First-Fridays-with-the-Fiddling-Flynns-Paper-Bag-5-x-7-in.png
CATEGORIES:Past Events
ATTACH;FMTTYPE=image/png:https://www.firstfreecoffee.com/wp-content/uploads/2025/10/Take-2.png
END:VEVENT
BEGIN:VEVENT
DTSTART;TZID=UTC:20251014T180000
DTEND;TZID=UTC:20251014T200000
DTSTAMP:20260423T191544
CREATED:20251003T003226Z
LAST-MODIFIED:20251028T134408Z
UID:873-1760464800-1760472000@www.firstfreecoffee.com
SUMMARY:National Day of Remembrance For Charlie Kirk
DESCRIPTION:
URL:https://www.firstfreecoffee.com/wp-content/uploads/2025/10/Charlie-Kirk-Day-of-Remembrance.pdf
CATEGORIES:Past Events,Public Events
ATTACH;FMTTYPE=image/gif:https://www.firstfreecoffee.com/wp-content/uploads/2025/10/Charlie-Kirk-Day-of-Remembrance.gif
END:VEVENT
BEGIN:VEVENT
DTSTART;TZID=UTC:20250517T100000
DTEND;TZID=UTC:20250517T110000
DTSTAMP:20260423T191544
CREATED:20250514T104607Z
LAST-MODIFIED:20251028T134410Z
UID:867-1747476000-1747479600@www.firstfreecoffee.com
SUMMARY:What is the Suzuki Method?
DESCRIPTION:
URL:https://www.firstfreecoffee.com/wp-content/uploads/2025/05/What-is-the-Suzuki-Method-Flyer.pdf
CATEGORIES:Past Events,Public Events
ATTACH;FMTTYPE=image/jpeg:https://www.firstfreecoffee.com/wp-content/uploads/2025/05/Event_02.jpg
END:VEVENT
BEGIN:VEVENT
DTSTART;TZID=UTC:20250412T140000
DTEND;TZID=UTC:20250412T170000
DTSTAMP:20260423T191544
CREATED:20250410T120128Z
LAST-MODIFIED:20260327T220530Z
UID:863-1744466400-1744477200@www.firstfreecoffee.com
SUMMARY:Thomas Jefferson's Birthday Celebration
DESCRIPTION:
URL:https://www.firstfreecoffee.com/wp-content/uploads/2025/04/IMG_8086.png
CATEGORIES:Past Events,Public Events
ATTACH;FMTTYPE=image/jpeg:https://www.firstfreecoffee.com/wp-content/uploads/2025/04/Jefferson_Event2.jpg
END:VEVENT
BEGIN:VEVENT
DTSTART;TZID=UTC:20250318T163000
DTEND;TZID=UTC:20250318T173000
DTSTAMP:20260423T191544
CREATED:20250305T174731Z
LAST-MODIFIED:20250410T120224Z
UID:857-1742315400-1742319000@www.firstfreecoffee.com
SUMMARY:Attorney General Jason Miyares
DESCRIPTION:
URL:https://www.firstfreecoffee.com/wp-content/uploads/2025/03/IMG_1399.png
CATEGORIES:Past Events
ATTACH;FMTTYPE=image/png:https://www.firstfreecoffee.com/wp-content/uploads/2025/03/IMG_1399.png
END:VEVENT
BEGIN:VEVENT
DTSTART;TZID=UTC:20250308T100000
DTEND;TZID=UTC:20250308T120000
DTSTAMP:20260423T191544
CREATED:20250220T153927Z
LAST-MODIFIED:20250410T120230Z
UID:853-1741428000-1741435200@www.firstfreecoffee.com
SUMMARY:Book Signing: Designed to Heal
DESCRIPTION:
URL:https://www.firstfreecoffee.com/wp-content/uploads/2025/02/IMG_7099.png
CATEGORIES:Past Events
ATTACH;FMTTYPE=image/jpeg:https://www.firstfreecoffee.com/wp-content/uploads/2025/02/DesignedToHeal.jpg
END:VEVENT
BEGIN:VEVENT
DTSTART;TZID=UTC:20250302T130000
DTEND;TZID=UTC:20250302T150000
DTSTAMP:20260423T191544
CREATED:20250220T152950Z
LAST-MODIFIED:20250410T120236Z
UID:850-1740920400-1740927600@www.firstfreecoffee.com
SUMMARY:JAZZCATS
DESCRIPTION:
URL:https://www.firstfreecoffee.com/wp-content/uploads/2025/02/IMG_7079-1.jpg
CATEGORIES:Past Events
ATTACH;FMTTYPE=image/jpeg:https://www.firstfreecoffee.com/wp-content/uploads/2025/02/Jazz-scaled.jpeg
END:VEVENT
BEGIN:VEVENT
DTSTART;TZID=UTC:20241220T170000
DTEND;TZID=UTC:20241220T210000
DTSTAMP:20260423T191544
CREATED:20241220T202708Z
LAST-MODIFIED:20250410T120241Z
UID:843-1734714000-1734728400@www.firstfreecoffee.com
SUMMARY:Christmas Party
DESCRIPTION:
URL:https://www.firstfreecoffee.com/wp-content/uploads/2024/12/69DA0A9B-A902-419E-98B6-B74D17366428.png
CATEGORIES:Past Events
ATTACH;FMTTYPE=image/png:https://www.firstfreecoffee.com/wp-content/uploads/2024/12/69DA0A9B-A902-419E-98B6-B74D17366428.png
END:VEVENT
BEGIN:VEVENT
DTSTART;TZID=UTC:20241220T100000
DTEND;TZID=UTC:20241220T110000
DTSTAMP:20260423T191544
CREATED:20241202T201008Z
LAST-MODIFIED:20250410T120246Z
UID:832-1734688800-1734692400@www.firstfreecoffee.com
SUMMARY:Live Music - Fiddling Flynns
DESCRIPTION:
URL:#
CATEGORIES:Past Events,Public Events
ATTACH;FMTTYPE=image/jpeg:https://www.firstfreecoffee.com/wp-content/uploads/2024/07/Live-Music-01.jpg
END:VEVENT
BEGIN:VEVENT
DTSTART;TZID=UTC:20241213T100000
DTEND;TZID=UTC:20241213T120000
DTSTAMP:20260423T191544
CREATED:20241202T201539Z
LAST-MODIFIED:20241220T202813Z
UID:834-1734084000-1734091200@www.firstfreecoffee.com
SUMMARY:Live Music - Bill Collins
DESCRIPTION:
URL:#
CATEGORIES:Past Events,Public Events
ATTACH;FMTTYPE=image/jpeg:https://www.firstfreecoffee.com/wp-content/uploads/2024/07/Bill-Collins.jpg
END:VEVENT
BEGIN:VEVENT
DTSTART;TZID=UTC:20241209T153000
DTEND;TZID=UTC:20241209T170000
DTSTAMP:20260423T191544
CREATED:20241202T202006Z
LAST-MODIFIED:20241220T202813Z
UID:837-1733758200-1733763600@www.firstfreecoffee.com
SUMMARY:Children's Advent Performance
DESCRIPTION:
URL:https://www.firstfreecoffee.com/wp-content/uploads/2024/12/ChildrensNativity.pdf
CATEGORIES:Past Events,Public Events
ATTACH;FMTTYPE=image/jpeg:https://www.firstfreecoffee.com/wp-content/uploads/2024/12/ChildrensNativity24.jpg
END:VEVENT
BEGIN:VEVENT
DTSTART;TZID=UTC:20241105T190000
DTEND;TZID=UTC:20241105T230000
DTSTAMP:20260423T191544
CREATED:20241027T195048Z
LAST-MODIFIED:20241220T202813Z
UID:826-1730833200-1730847600@www.firstfreecoffee.com
SUMMARY:Election Night
DESCRIPTION:
URL:https://www.firstfreecoffee.com/wp-content/uploads/2024/10/Election-Day-flyer.png
CATEGORIES:Past Events,Public Events
ATTACH;FMTTYPE=image/jpeg:https://www.firstfreecoffee.com/wp-content/uploads/2024/06/Presidential-Debate.jpg
END:VEVENT
BEGIN:VEVENT
DTSTART;TZID=UTC:20241101T100000
DTEND;TZID=UTC:20241101T110000
DTSTAMP:20260423T191544
CREATED:20241031T134252Z
LAST-MODIFIED:20241220T202814Z
UID:829-1730455200-1730458800@www.firstfreecoffee.com
SUMMARY:Live Music - The Fiddling Flynns
DESCRIPTION:
URL:#
CATEGORIES:Past Events,Public Events
ATTACH;FMTTYPE=image/jpeg:https://www.firstfreecoffee.com/wp-content/uploads/2024/07/Live-Music-01.jpg
END:VEVENT
BEGIN:VEVENT
DTSTART;TZID=UTC:20241011T100000
DTEND;TZID=UTC:20241011T120000
DTSTAMP:20260423T191544
CREATED:20241001T165442Z
LAST-MODIFIED:20241027T195506Z
UID:822-1728640800-1728648000@www.firstfreecoffee.com
SUMMARY:Live Music - Bill Collins
DESCRIPTION:
URL:#
CATEGORIES:Past Events
ATTACH;FMTTYPE=image/jpeg:https://www.firstfreecoffee.com/wp-content/uploads/2024/07/Bill-Collins.jpg
END:VEVENT
BEGIN:VEVENT
DTSTART;TZID=UTC:20241005T100000
DTEND;TZID=UTC:20241005T120000
DTSTAMP:20260423T191544
CREATED:20241001T165348Z
LAST-MODIFIED:20241027T195512Z
UID:820-1728122400-1728129600@www.firstfreecoffee.com
SUMMARY:Live Music - Michael Phlegar
DESCRIPTION:
URL:#
CATEGORIES:Past Events
ATTACH;FMTTYPE=image/jpeg:https://www.firstfreecoffee.com/wp-content/uploads/2024/09/FFC_Music1.jpg
END:VEVENT
BEGIN:VEVENT
DTSTART;TZID=UTC:20241004T100000
DTEND;TZID=UTC:20241004T110000
DTSTAMP:20260423T191544
CREATED:20241001T165226Z
LAST-MODIFIED:20241027T195517Z
UID:818-1728036000-1728039600@www.firstfreecoffee.com
SUMMARY:Live Music - Fiddling Flynns
DESCRIPTION:
URL:#
CATEGORIES:Past Events
ATTACH;FMTTYPE=image/jpeg:https://www.firstfreecoffee.com/wp-content/uploads/2024/07/Live-Music-01.jpg
END:VEVENT
BEGIN:VEVENT
DTSTART;TZID=UTC:20241001T193000
DTEND;TZID=UTC:20241001T223000
DTSTAMP:20260423T191544
CREATED:20241001T164932Z
LAST-MODIFIED:20241027T195522Z
UID:816-1727811000-1727821800@www.firstfreecoffee.com
SUMMARY:Vice Presidential Debate Watch
DESCRIPTION:
URL:#
CATEGORIES:Past Events
ATTACH;FMTTYPE=image/jpeg:https://www.firstfreecoffee.com/wp-content/uploads/2024/06/Presidential-Debate.jpg
END:VEVENT
BEGIN:VEVENT
DTSTART;TZID=UTC:20240929T120000
DTEND;TZID=UTC:20240929T140000
DTSTAMP:20260423T191544
CREATED:20240921T131709Z
LAST-MODIFIED:20241027T195528Z
UID:806-1727611200-1727618400@www.firstfreecoffee.com
SUMMARY:Book Signing - Rachelle Keng
DESCRIPTION:
URL:https://www.firstfreecoffee.com/wp-content/uploads/2024/09/Book-signing.jpeg
CATEGORIES:Past Events
ATTACH;FMTTYPE=image/jpeg:https://www.firstfreecoffee.com/wp-content/uploads/2024/09/Book-signingEvent1.jpg
END:VEVENT
BEGIN:VEVENT
DTSTART;TZID=UTC:20240928T130000
DTEND;TZID=UTC:20240928T150000
DTSTAMP:20260423T191544
CREATED:20240925T225536Z
LAST-MODIFIED:20241027T195532Z
UID:811-1727528400-1727535600@www.firstfreecoffee.com
SUMMARY:Live Music - Brian Elder
DESCRIPTION:
URL:#
CATEGORIES:Past Events
ATTACH;FMTTYPE=image/jpeg:https://www.firstfreecoffee.com/wp-content/uploads/2024/09/FFC_Music1.jpg
END:VEVENT
BEGIN:VEVENT
DTSTART;TZID=UTC:20240914T100000
DTEND;TZID=UTC:20240914T120000
DTSTAMP:20260423T191544
CREATED:20240910T000420Z
LAST-MODIFIED:20241027T195537Z
UID:802-1726308000-1726315200@www.firstfreecoffee.com
SUMMARY:Constitution Day
DESCRIPTION:
URL:https://www.firstfreecoffee.com/wp-content/uploads/2024/09/Constitution-Day-at-FFCB-1.pdf
CATEGORIES:Past Events
ATTACH;FMTTYPE=image/jpeg:https://www.firstfreecoffee.com/wp-content/uploads/2024/08/FFC_outside-scaled.jpg
END:VEVENT
BEGIN:VEVENT
DTSTART;TZID=UTC:20240910T200000
DTEND;TZID=UTC:20240910T223000
DTSTAMP:20260423T191544
CREATED:20240909T235401Z
LAST-MODIFIED:20240921T131050Z
UID:800-1725998400-1726007400@www.firstfreecoffee.com
SUMMARY:Presidential Debate Watch
DESCRIPTION:You’re invited to the shop this Tuesday night for a presidential debate watch\, round 2. Come watch with your friends–no entry fee!
URL:https://www.firstfreecoffee.com/event/presidential-debate-watch-2/
CATEGORIES:Past Events
ATTACH;FMTTYPE=image/jpeg:https://www.firstfreecoffee.com/wp-content/uploads/2024/06/Presidential-Debate.jpg
END:VEVENT
BEGIN:VEVENT
DTSTART;TZID=UTC:20240824T100000
DTEND;TZID=UTC:20240824T110000
DTSTAMP:20260423T191544
CREATED:20240808T235152Z
LAST-MODIFIED:20240808T235607Z
UID:793-1724493600-1724497200@www.firstfreecoffee.com
SUMMARY:Free Cursive Writing Workshop
DESCRIPTION:
URL:https://www.firstfreecoffee.com/wp-content/uploads/2024/08/ACFrOgCmAbV1FIaHNH91-Ol9FQKjZfFP0AbqDxag4GaJ0Lulw-TEmhdt-qKewkdk2dMDxrDD7ikSfLQufS-e8O5WRZHpqZGXnVKlieeO8EFEahZcbeGh-Hwa8AMFHVhk-opvOH5C-mp8EN15qTbc.pdf
CATEGORIES:Public Events
ATTACH;FMTTYPE=image/jpeg:https://www.firstfreecoffee.com/wp-content/uploads/2024/08/FFC_Event.jpg
END:VEVENT
BEGIN:VEVENT
DTSTART;TZID=UTC:20240804T133000
DTEND;TZID=UTC:20240804T160000
DTSTAMP:20260423T191544
CREATED:20240714T163008Z
LAST-MODIFIED:20240808T230421Z
UID:762-1722778200-1722787200@www.firstfreecoffee.com
SUMMARY:Lt. Governor Winsome Earle-Sears
DESCRIPTION:
URL:https://www.firstfreecoffee.com/wp-content/uploads/2024/07/131563-Winsome-Flyer.pdf
CATEGORIES:Past Events
ATTACH;FMTTYPE=image/jpeg:https://www.firstfreecoffee.com/wp-content/uploads/2024/07/Winsome-Event.jpg
END:VEVENT
END:VCALENDAR